Workbook

Sheet Audit Croisé
A1: ◼ BackIT
A2: numFiche | B2: N. enlevement | C2: Numero serie | D2: Type machine | E2: Marque | F2: Modèle | G2: COLOR | H2: Processeur | I2: Disque dur | J2: Memoire RAM | K2: Lecteur/IMEI | L2: Ecran taille | M2: OS version | N2: Liste Panne Test Entrée | O2: Grade ESTHETIQUE ACTUEL
A3: 2602698 | B3: B2BEA001_20260602 | C3: CND2241VXT | D3: LAPTOP | E3: HP | F3: ELITEBOOK_X360_1030_G8_NOTEBOOK_PC-13.2-I7_1185G7_3.00GHZ_16GB | G3: SILVER | H3: CORE I7-1185G7 3.00 GHZ | I3: NVME SSD 512GB | J3: 16GB | L3: 13.2" | N3: LOGICIEL_BLOQUE_MDM, PATIN_MANQUANT | O3: B
A4: 2602701 | B4: B2BEA001_20260602 | C4: CND2241W5K | D4: LAPTOP | E4: HP | F4: ELITEBOOK_X360_1030_G8_NOTEBOOK_PC-13.2-I7_1185G7_3.00GHZ_16GB | G4: SILVER | H4: CORE I7-1185G7 3.00 GHZ | I4: NVME SSD 512GB | J4: 16GB | L4: 13.2" | N4: LOGICIEL_BLOQUE_MDM | O4: B
A5: 2602704 | B5: B2BEA001_20260602 | C5: CND2241W4X | D5: LAPTOP | E5: HP | F5: ELITEBOOK_X360_1030_G8_NOTEBOOK_PC-13.2-I7_1185G7_3.00GHZ_16GB | G5: SILVER | H5: CORE I7-1185G7 3.00 GHZ | I5: NVME SSD 512GB | J5: 16GB | L5: 13.2" | N5: LOGICIEL_BLOQUE_MDM, PATIN_MANQUANT | O5: B
A6: 2602782 | B6: B2BEA001_20260602 | C6: CND2241W71 | D6: LAPTOP | E6: HP | F6: ELITEBOOK_X360_1030_G8_NOTEBOOK_PC-13.2-I7_1185G7_3.00GHZ_16GB | G6: SILVER | H6: CORE I7-1185G7 3.00 GHZ | I6: NVME SSD 512GB | J6: 16GB | L6: 13.2" | N6: BATTERIE_AUTONOMIE | O6: C+
A7: 2602707 | B7: B2BEA001_20260602 | C7: CND2241W2J | D7: LAPTOP | E7: HP | F7: ELITEBOOK_X360_1030_G8_NOTEBOOK_PC-13.2-I7_1185G7_3.00GHZ_16GB | G7: SILVER | H7: CORE I7-1185G7 3.00 GHZ | I7: NVME SSD 512GB | J7: 16GB | L7: 13.2" | N7: DISQUE_DUR_HS, LOGICIEL_BLOQUE_MDM | O7: B
A8: 2603083 | B8: B2BEA001_20260602 | C8: 4PWZ1Q1 | D8: LAPTOP | E8: DELL | F8: LATITUDE_E6320-13-I5_2540M_2.60GHZ_4GB | G8: BLACK | H8: CORE I5-2540M 2.60 GHZ | I8: SATA HDD 250GB | J8: 4GB | L8: 13" | N8: BATTERIE_AUTONOMIE, DISQUE_DUR_HS | O8: C+
A9: 2603062 | B9: B2BEA001_20260602 | C9: CND2241VZL | D9: LAPTOP | E9: HP | F9: ELITEBOOK_X360_1030_G8_NOTEBOOK_PC-13.2-I7_1185G7_3.00GHZ_16GB | G9: SILVER | H9: CORE I7-1185G7 3.00 GHZ | I9: NVME SSD 512GB | J9: 16GB | L9: 13.2" | N9: BATTERIE_AUTONOMIE, PATIN_MANQUANT | O9: B
A10: 2603304 | B10: B2BEA001_20260602 | C10: 5CG1201XBX | D10: LAPTOP | E10: HP | F10: ELITEBOOK_X360_16GB | G10: SILVER | H10: CORE I7-1165G7 2.80 GHZ | I10: NVME SSD 512GB | J10: 16GB | L10: 13.2" | N10: CLAVIER_DEFAUT | O10: C+
A11: 2603081 | B11: B2BEA001_20260602 | C11: 5CG3153488 | D11: LAPTOP | E11: HP | F11: ELITEBOOK_830_13_INCH_G9_NOTEBOOK_PC-13.4-I5_1245U_16GB | G11: SILVER | H11: CORE I5-1245U | I11: NVME SSD 256GB | J11: 16GB | L11: 13.4" | N11: CLAVIER_HS | O11: B
A12: 2602720 | B12: B2BEA001_20260602 | C12: CND2241W8L | D12: LAPTOP | E12: HP | F12: ELITEBOOK_X360_1030_G8_NOTEBOOK_PC-13.2-I7_1185G7_3.00GHZ_16GB | G12: SILVER | H12: CORE I7-1185G7 3.00 GHZ | I12: NVME SSD 512GB | J12: 16GB | L12: 13.2" | N12: LOGICIEL_BLOQUE_MDM | O12: B
A13: 2602721 | B13: B2BEA001_20260602 | C13: CND2241W22 | D13: LAPTOP | E13: HP | F13: ELITEBOOK_X360_1030_G8_NOTEBOOK_PC-13.2-I7_1185G7_3.00GHZ_16GB | G13: SILVER | H13: CORE I7-1185G7 3.00 GHZ | I13: NVME SSD 512GB | J13: 16GB | L13: 13.2" | N13: LOGICIEL_BLOQUE_MDM | O13: B
A14: 2602723 | B14: B2BEA001_20260602 | C14: CND2241VT8 | D14: LAPTOP | E14: HP | F14: ELITEBOOK_X360_1030_G8_NOTEBOOK_PC-13.2-I7_1185G7_3.00GHZ_16GB | G14: SILVER | H14: CORE I7-1185G7 3.00 GHZ | I14: NVME SSD 512GB | J14: 16GB | L14: 13.2" | N14: LOGICIEL_BLOQUE_MDM | O14: C+
... A68: 2603489 | B68: B2BEA001_20260602 | C68: 5CG1243YG5 | D68: LAPTOP | E68: HP | F68: ELITEBOOK_X360_16GB | G68: SILVER | H68: CORE I7-1165G7 2.80 GHZ | I68: NVME SSD 512GB | J68: 16GB | L68: 13.2" | N68: LOGICIEL_BLOQUE_MDM | O68: B

Sheet cotation préalable
A1: Budget total du lot (€) | B1: 26000
A2: Nombre de machines | B2: =SUM(F5:F15) -> 173
A3: Prix moyen / machine (€) | B3: =B1/B2 -> 150.28902
A4: Marque | B4: Modele | C4: Processeur | D4: RAM | E4: Stockage | F4: Quantite | G4: Coefficient (a ajuster) | H4: Prix unitaire (€) | I4: Sous-total (€)
A5: HP | B5: EliteBook 830 G10 | C5: I5-1345U | D5: 16 Go | E5: 256GB | F5: 1 | G5: 1.35 | H5: =$B$1/SUMPRODUCT($F$5:$F$15,$G$5:$G$15)*G5 -> 186.05884 | I5: =F5*H5 -> 186.05884
A6: HP | B6: EliteBook x360 830 G8 | C6: I7-1185G7 | D6: 16 Go | E6: 512GB | F6: 1 | G6: 1.15 | H6: =$B$1/SUMPRODUCT($F$5:$F$15,$G$5:$G$15)*G6 -> 158.49457 | I6: =F6*H6 -> 158.49457
A7: HP | B7: EliteBook x360 1030 G8 | C7: I7-1185G7 | D7: 16 Go | E7: 512GB | F7: 112 | G7: 1.15 | H7: =$B$1/SUMPRODUCT($F$5:$F$15,$G$5:$G$15)*G7 -> 158.49457 | I7: =F7*H7 -> 17751.391
A8: HP | B8: EliteBook x360 830 G9 | C8: I5-1245U | D8: 16 Go | E8: 256GB | F8: 18 | G8: 1.1 | H8: =$B$1/SUMPRODUCT($F$5:$F$15,$G$5:$G$15)*G8 -> 151.6035 | I8: =F8*H8 -> 2728.863
A9: HP | B9: EliteBook x360 1030 G8 | C9: I7-1165G7 | D9: 16 Go | E9: 512GB | F9: 1 | G9: 1.05 | H9: =$B$1/SUMPRODUCT($F$5:$F$15,$G$5:$G$15)*G9 -> 144.71243 | I9: =F9*H9 -> 144.71243
A10: HP | B10: EliteBook x360 830 G8 | C10: I7-1165G7 | D10: 16 Go | E10: 512GB | F10: 19 | G10: 1.05 | H10: =$B$1/SUMPRODUCT($F$5:$F$15,$G$5:$G$15)*G10 -> 144.71243 | I10: =F10*H10 -> 2749.5362
A11: HP | B11: EliteBook x360 1030 G7 | C11: I7-10810U | D11: 16 Go | E11: 256GB | F11: 15 | G11: 0.85 | H11: =$B$1/SUMPRODUCT($F$5:$F$15,$G$5:$G$15)*G11 -> 117.14816 | I11: =F11*H11 -> 1757.2224
A12: HP | B12: ENVY Laptop | C12: I5-1135G7 | D12: 16 Go | E12: 256GB | F12: 1 | G12: 0.75 | H12: =$B$1/SUMPRODUCT($F$5:$F$15,$G$5:$G$15)*G12 -> 103.36602 | I12: =F12*H12 -> 103.36602
A13: HP | B13: EliteBook x360 1030 G4 | C13: I5-8265U | D13: 16 Go | E13: 256GB | F13: 1 | G13: 0.65 | H13: =$B$1/SUMPRODUCT($F$5:$F$15,$G$5:$G$15)*G13 -> 89.583886 | I13: =F13*H13 -> 89.583886
A14: HP | B14: EliteBook x360 830 G4 | C14: I5-8265U | D14: 16 Go | E14: 256GB | F14: 2 | G14: 0.65 | H14: =$B$1/SUMPRODUCT($F$5:$F$15,$G$5:$G$15)*G14 -> 89.583886 | I14: =F14*H14 -> 179.16777
A15: HP | B15: EliteBook x360 1030 G2 | C15: I7-7600U | D15: 16 Go | E15: 256GB | F15: 2 | G15: 0.55 | H15: =$B$1/SUMPRODUCT($F$5:$F$15,$G$5:$G$15)*G15 -> 75.801749 | I15: =F15*H15 -> 151.6035
E17: TOTAL | F17: =SUM(F5:F15) -> 173 | I17: =SUM(I5:I15) -> 26000

Sheet grille indemnité
J2: Laptop
D3: Desktop & AIO | E3: Laptop | F3: Mobilité | G3: Ecran | J3: Catégorie | K3: Définition | L3: Description | M3: Points | N3: Couts réparation
C4: Points | D4: Montant indemintés (vs Grade A) | J4: Esthètique | K4: Clavier patiné | L4: Le clavier présente de fortes traces d'usure généralisées | M4: -31
A5: Esthétique | B5: Grade A | C5: 90 à 100 | D5: 0 | E5: 0 | F5: 0 | G5: 0 | K5: Plasturgie avec 1 ou 2 choc | L5: Présence d'1 ou 2 chocs sur la plasturgie | M5: -31
B6: Grade B | C6: 50 à 89 | D6: 0.2 | E6: 0.2 | F6: 0.2 | G6: 0.2 | K6: Plasturgie avec 3 ou + chocs | L6: Présence de 3 ou + de chocs sur la plasturgie | M6: -51
B7: Grade C | C7: 1 à 49 | D7: 0.4 | E7: 0.4 | F7: 0.4 | G7: 0.4 | K7: Plasturgie avec rayures | L7: Présence de rayures sur la plasturgie < 5 cm | M7: -11
B8: Pannes réparables | D8: Montant réparations | K8: Plasturgie avec rayures prononcées | L8: Présence de rayures sur la plasturgie > 5 cm | M8: -31
B9: Pannes non réparables | D9: Montant Grade A | K9: Plasturgie avec stickers | L9: Présence de stickers sur la plasturgie laissant des traces visibles après décollage | M9: -11
K10: Absence de peinture sur la plasturgie | L10: La plasturgie présente des absences de peintures marquées | M10: -51
K11: Ecran avec rayures | L11: Présence de rayures sur l'écran < 2 cm | M11: -21
K12: Ecran avec rayures prononcées | L12: Présence de rayures sur l'écran > 2 cm | M12: -51
K13: Ecran fortement marqué | L13: L'écran présente de nombreuses marques visibles (>5) | M13: -31
K14: Ecran marqué | L14: L'écran présente des marques visibles (<5) | M14: -11
K15: Ecran fortement taché | L15: L'écran présente des taches > 0,5 cm | M15: -51
K16: Ecran taché | L16: L'écran présente des taches < 0,5 cm | M16: -11
K17: TouchPad patiné | L17: Le Touchpad présente de fortes traces d'usure | M17: -11
K18: Problème de pixels sur écran | L18: L'écran présente des pixel HS ou défaillant | M18: -31
K19: Présence d'un marquage antivol | L19: Un marquage antivol est présent sur le Laptop | M19: -51
J20: Pannes réparables | K20: Autonmie batterie <70% | L20: La capacité maximum de la batterie est < 70% | N20: 40
K21: Batterie absente ou HS | L21: La batterie est absente ou ne fonctionne pas | N21: 40
K22: Bezel fendu ou cassé | L22: Le Bezel est fendu ou cassé | N22: 20
K23: Bloc alimentation absent ou HS | L23: Bloc alimentation absent ou ne fonctionne pas (sauf Apple et Microsoft) | N23: 10
K24: Bloc alimentation absent ou HS pour Surface/MacBook | L24: Bloc alimentation absent ou ne fonctionne pas (Apple ou Microsoft) | N24: 30
K25: Carte Ethernet HS | L25: La carte Ethernet ne fonctionne pas | N25: 50
K26: Carte Wifi HS | L26: La carte Wifi ne fonctionne pas | N26: 40
K27: Charnière cassée | L27: La charnière est cassée | N27: 20
K28: Clavier cassé | L28: Le clavier est cassé | N28: 30
K29: Clavier étranger | L29: Le clavier n'est pas un AZERTY Français | N29: 30
K30: Clavier très abimé, touches effacées ou manquante | L30: Le clavier est très abimé ou présente des touches effacées ou manquantes | N30: 30
K31: Connecteur de charge HS | L31: Le connecteur de charge ne fonctionne pas | N31: 50
K32: Disque dur absent ou HS | L32: Le disque dur absent ou ne fonctionne pas | N32: 50
... K42: Webcam HS, cassée ou absente | L42: La Webcam est absente ou ne fonctionne pas | N42: 50
J43: Pannes non réparables | K43: Carte graphique absente ou HS | L43: La carte graphique est absente ou ne fonctionne pas | M43: irréparable
K44: Carte mère absente ou HS | L44: La carte mère est absente ou ne fonctionne pas | M44: irréparable
K45: Chassis cassé ou déformé | L45: Le chassis est cassé ou déformé | M45: irréparable
K46: Ecran absent, cassé, fêlé ou HS | L46: L'écran est cassé, fêlé ou ne fonctionne pas | M46: irréparable
K47: Poste bloqué BIOS - pas de MDP | L47: Le poste est bloqué BIOS et le MDP ne fonctionne pas | M47: irréparable
K48: Poste bloqué code de sécurité - pas de MDP | L48: Le poste est bloqué par un code de sécurité et le MDP ne fonctionne pas | M48: irréparable
K49: Poste bloqué iCloud - pas de MDP | L49: Le poste est bloqué iCloud et le MDP ne fonctionne pas | M49: irréparable
K50: Poste bloqué MDM | L50: Le poste est toujours enrollé dans un MDM | M50: irréparable
...

Sheet Mapping pannes
A1: Code panne (audit) | B1: Correspondance grille indemnité | C1: Irréparable ? | D1: Coût réparation (€) | E1: Statut | G1: Grade | H1: Décote esthétique (%)
A2: BATTERIE_AUTONOMIE | B2: Autonmie batterie <70% | C2: {=IFERROR(INDEX('grille indemnité'!$M$4:$M$53,MATCH(B2,'grille indemnité'!$K$4:$K$53,0))="irréparable",FALSE())} -> FALSE | D2: {=IFERROR(INDEX('grille indemnité'!$N$4:$N$53,MATCH(B2,'grille indemnité'!$K$4:$K$53,0)),0)} -> 40 | G2: A | H2: 0
A3: CLAVIER_DEFAUT | B3: Clavier très abimé, touches effacées ou manquante | C3: {=IFERROR(INDEX('grille indemnité'!$M$4:$M$53,MATCH(B3,'grille indemnité'!$K$4:$K$53,0))="irréparable",FALSE())} -> FALSE | D3: {=IFERROR(INDEX('grille indemnité'!$N$4:$N$53,MATCH(B3,'grille indemnité'!$K$4:$K$53,0)),0)} -> 30 | G3: B | H3: 0
A4: CLAVIER_HS | B4: Clavier cassé | C4: {=IFERROR(INDEX('grille indemnité'!$M$4:$M$53,MATCH(B4,'grille indemnité'!$K$4:$K$53,0))="irréparable",FALSE())} -> FALSE | D4: {=IFERROR(INDEX('grille indemnité'!$N$4:$N$53,MATCH(B4,'grille indemnité'!$K$4:$K$53,0)),0)} -> 30 | G4: C+ | H4: 0.2
A5: CONNECTEUR_USB_HS | B5: Port USB HS | C5: {=IFERROR(INDEX('grille indemnité'!$M$4:$M$53,MATCH(B5,'grille indemnité'!$K$4:$K$53,0))="irréparable",FALSE())} -> FALSE | D5: {=IFERROR(INDEX('grille indemnité'!$N$4:$N$53,MATCH(B5,'grille indemnité'!$K$4:$K$53,0)),0)} -> 50 | G5: C | H5: 0.4
A6: COQUE_ARRIERE_CASSE | B6: Chassis cassé ou déformé | C6: {=IFERROR(INDEX('grille indemnité'!$M$4:$M$53,MATCH(B6,'grille indemnité'!$K$4:$K$53,0))="irréparable",FALSE())} -> TRUE | D6: {=IFERROR(INDEX('grille indemnité'!$N$4:$N$53,MATCH(B6,'grille indemnité'!$K$4:$K$53,0)),0)} -> 0 | G6: D | H6: 0.7
A7: DISQUE_DUR_HS | B7: Disque dur absent ou HS | C7: {=IFERROR(INDEX('grille indemnité'!$M$4:$M$53,MATCH(B7,'grille indemnité'!$K$4:$K$53,0))="irréparable",FALSE())} -> FALSE | D7: {=IFERROR(INDEX('grille indemnité'!$N$4:$N$53,MATCH(B7,'grille indemnité'!$K$4:$K$53,0)),0)} -> 50
A8: ECRAN_HS | B8: Ecran absent, cassé, fêlé ou HS | C8: {=IFERROR(INDEX('grille indemnité'!$M$4:$M$53,MATCH(B8,'grille indemnité'!$K$4:$K$53,0))="irréparable",FALSE())} -> TRUE | D8: {=IFERROR(INDEX('grille indemnité'!$N$4:$N$53,MATCH(B8,'grille indemnité'!$K$4:$K$53,0)),0)} -> 0
A9: HAUT_PARLEUR_HS | B9: Haut-parleur ou Micro appel HS | C9: {=IFERROR(INDEX('grille indemnité'!$M$4:$M$53,MATCH(B9,'grille indemnité'!$K$4:$K$53,0))="irréparable",FALSE())} -> FALSE | D9: {=IFERROR(INDEX('grille indemnité'!$N$4:$N$53,MATCH(B9,'grille indemnité'!$K$4:$K$53,0)),0)} -> 20
A10: LOGICIEL_BLOQUE_BIOS | B10: Poste bloqué BIOS - pas de MDP | C10: {=IFERROR(INDEX('grille indemnité'!$M$4:$M$53,MATCH(B10,'grille indemnité'!$K$4:$K$53,0))="irréparable",FALSE())} -> TRUE | D10: {=IFERROR(INDEX('grille indemnité'!$N$4:$N$53,MATCH(B10,'grille indemnité'!$K$4:$K$53,0)),0)} -> 0
A11: MICRO_HS | B11: Haut-parleur ou Micro appel HS | C11: {=IFERROR(INDEX('grille indemnité'!$M$4:$M$53,MATCH(B11,'grille indemnité'!$K$4:$K$53,0))="irréparable",FALSE())} -> FALSE | D11: {=IFERROR(INDEX('grille indemnité'!$N$4:$N$53,MATCH(B11,'grille indemnité'!$K$4:$K$53,0)),0)} -> 20
A12: NE_S_ALLUME_PAS | B12: Poste ne démarre pas | C12: {=IFERROR(INDEX('grille indemnité'!$M$4:$M$53,MATCH(B12,'grille indemnité'!$K$4:$K$53,0))="irréparable",FALSE())} -> TRUE | D12: {=IFERROR(INDEX('grille indemnité'!$N$4:$N$53,MATCH(B12,'grille indemnité'!$K$4:$K$53,0)),0)} -> 0
A13: CASSE | B13: Chassis cassé ou déformé | C13: {=IFERROR(INDEX('grille indemnité'!$M$4:$M$53,MATCH(B13,'grille indemnité'!$K$4:$K$53,0))="irréparable",FALSE())} -> TRUE | D13: {=IFERROR(INDEX('grille indemnité'!$N$4:$N$53,MATCH(B13,'grille indemnité'!$K$4:$K$53,0)),0)} -> 0
A14: PATIN_MANQUANT | B14: (hors grille - saisie manuelle Pierre) | C14: =FALSE() -> FALSE | D14: 15
A15: TOUCHPAD_HS | B15: TouchPad ou TrackPoint ne fonctionne pas ou absent | C15: {=IFERROR(INDEX('grille indemnité'!$M$4:$M$53,MATCH(B15,'grille indemnité'!$K$4:$K$53,0))="irréparable",FALSE())} -> FALSE | D15: {=IFERROR(INDEX('grille indemnité'!$N$4:$N$53,MATCH(B15,'grille indemnité'!$K$4:$K$53,0)),0)} -> 30
A16: WEBCAM_HS | B16: Webcam HS, cassée ou absente | C16: {=IFERROR(INDEX('grille indemnité'!$M$4:$M$53,MATCH(B16,'grille indemnité'!$K$4:$K$53,0))="irréparable",FALSE())} -> FALSE | D16: {=IFERROR(INDEX('grille indemnité'!$N$4:$N$53,MATCH(B16,'grille indemnité'!$K$4:$K$53,0)),0)} -> 50

Sheet Calcul indemnités
A1: N. Fiche | B1: Numero de serie | C1: Marque | D1: Modele (brut) | E1: Grade Entre | F1: Processeur (brut) | G1: RAM (brut) | H1: Stockage (brut) | I1: CPU normalise | J1: RAM normalisee | K1: Stockage normalise | L1: Prix unitaire catalogue (EUR) | M1: Panne 1 | N1: Panne 2 | O1: Panne 3 | P1: Irreparable (au moins 1) ? | Q1: Cout reparations cumule (EUR) | R1: Indemnite pannes (EUR) | S1: Valeur nette apres pannes (EUR) | T1: Decote esthetique (%) | U1: Decote esthetique (EUR) | V1: Valeur nette FINALE (EUR) | W1: Alerte / a verifier
A2: 2603292 | B2: 5CG34542XT | C2: HP | D2: ELITEBOOK_830_13_INCH_G10_NOTEBOOK_PC-0-I5_1345U_16GB | E2: C+ | F2: CORE I5-1345U | G2: 16GB | H2: NVME SSD 256GB | I2: I5-1345U | J2: 16 Go | K2: 256GB | L2: =IF(SUMPRODUCT(('cotation préalable'!$C$5:$C$15=I2)*('cotation préalable'!$D$5:$D$15=J2)*('cotation préalable'!$E$5:$E$15=K2))=0,"Non cote",SUMPRODUCT(('cotation préalable'!$C$5:$C$15=I2)*('cotation préalable'!$D$5:$D$15=J2)*('cotation préalable'!$E$5:$E$15=K2)*'cotation préalable'!$H$5:$H$15)/SUMPRODUCT(('cotation préalable'!$C$5:$C$15=I2)*('cotation préalable'!$D$5:$D$15=J2)*('cotation préalable'!$E$5:$E$15=K2))) -> 186.05884 | M2: TOUCHPAD_HS | P2: {=OR(IFERROR(INDEX('Mapping pannes'!$C$2:$C$16,MATCH(M2,'Mapping pannes'!$A$2:$A$16,0)),FALSE()),IFERROR(INDEX('Mapping pannes'!$C$2:$C$16,MATCH(N2,'Mapping pannes'!$A$2:$A$16,0)),FALSE()),IFERROR(INDEX('Mapping pannes'!$C$2:$C$16,MATCH(O2,'Mapping pannes'!$A$2:$A$16,0)),FALSE()))} -> FALSE | Q2: {=IFERROR(INDEX('Mapping pannes'!$D$2:$D$16,MATCH(M2,'Mapping pannes'!$A$2:$A$16,0)),0)+IFERROR(INDEX('Mapping pannes'!$D$2:$D$16,MATCH(N2,'Mapping pannes'!$A$2:$A$16,0)),0)+IFERROR(INDEX('Mapping pannes'!$D$2:$D$16,MATCH(O2,'Mapping pannes'!$A$2:$A$16,0)),0)} -> 30 | R2: =IF(NOT(ISNUMBER(L2)),"Non calculable",IF(P2,L2,MIN(L2,Q2))) -> 30 | S2: =IF(NOT(ISNUMBER(L2)),"Non calculable",MAX(0,L2-R2)) -> 156.05884 | T2: =IFERROR(VLOOKUP(E2,'Mapping pannes'!$G$2:$H$6,2,FALSE()),"") -> 0.2 | U2: =IF(OR(NOT(ISNUMBER(L2)),T2=""),"Non calculable",L2*T2) -> 37.211768 | V2: =IF(OR(NOT(ISNUMBER(L2)),T2=""),"Non calculable",MAX(0,L2-R2-U2)) -> 118.84707 | W2: {=TRIM(IF(NOT(ISNUMBER(L2)),"Modele non cote. ","")&IF(T2="","Grade non reconnu pour decote esthetique. ","")&IFERROR(INDEX('Mapping pannes'!$E$2:$E$16,MATCH(M2,'Mapping pannes'!$A$2:$A$16,0))&" ","")&IFERROR(INDEX('Mapping pannes'!$E$2:$E$16,MATCH(N2,'Mapping pannes'!$A$2:$A$16,0))&" ","")&IFERROR(INDEX('Mapping pannes'!$E$2:$E$16,MATCH(O2,'Mapping pannes'!$A$2:$A$16,0))&" ",""))}
A3: 2603291 | B3: 5CG315348M | C3: HP | D3: ELITEBOOK_830_13_INCH_G9_NOTEBOOK_PC-13.4-I5_1245U_16GB | E3: B | F3: CORE I5-1245U | G3: 16GB | H3: NVME SSD 256GB | I3: I5-1245U | J3: 16 Go | K3: 256GB | L3: =IF(SUMPRODUCT(('cotation préalable'!$C$5:$C$15=I3)*('cotation préalable'!$D$5:$D$15=J3)*('cotation préalable'!$E$5:$E$15=K3))=0,"Non cote",SUMPRODUCT(('cotation préalable'!$C$5:$C$15=I3)*('cotation préalable'!$D$5:$D$15=J3)*('cotation préalable'!$E$5:$E$15=K3)*'cotation préalable'!$H$5:$H$15)/SUMPRODUCT(('cotation préalable'!$C$5:$C$15=I3)*('cotation préalable'!$D$5:$D$15=J3)*('cotation préalable'!$E$5:$E$15=K3))) -> 151.6035 | M3: BATTERIE_AUTONOMIE | P3: {=OR(IFERROR(INDEX('Mapping pannes'!$C$2:$C$16,MATCH(M3,'Mapping pannes'!$A$2:$A$16,0)),FALSE()),IFERROR(INDEX('Mapping pannes'!$C$2:$C$16,MATCH(N3,'Mapping pannes'!$A$2:$A$16,0)),FALSE()),IFERROR(INDEX('Mapping pannes'!$C$2:$C$16,MATCH(O3,'Mapping pannes'!$A$2:$A$16,0)),FALSE()))} -> FALSE | Q3: {=IFERROR(INDEX('Mapping pannes'!$D$2:$D$16,MATCH(M3,'Mapping pannes'!$A$2:$A$16,0)),0)+IFERROR(INDEX('Mapping pannes'!$D$2:$D$16,MATCH(N3,'Mapping pannes'!$A$2:$A$16,0)),0)+IFERROR(INDEX('Mapping pannes'!$D$2:$D$16,MATCH(O3,'Mapping pannes'!$A$2:$A$16,0)),0)} -> 40 | R3: =IF(NOT(ISNUMBER(L3)),"Non calculable",IF(P3,L3,MIN(L3,Q3))) -> 40 | S3: =IF(NOT(ISNUMBER(L3)),"Non calculable",MAX(0,L3-R3)) -> 111.6035 | T3: =IFERROR(VLOOKUP(E3,'Mapping pannes'!$G$2:$H$6,2,FALSE()),"") -> 0 | U3: =IF(OR(NOT(ISNUMBER(L3)),T3=""),"Non calculable",L3*T3) -> 0 | V3: =IF(OR(NOT(ISNUMBER(L3)),T3=""),"Non calculable",MAX(0,L3-R3-U3)) -> 111.6035 | W3: {=TRIM(IF(NOT(ISNUMBER(L3)),"Modele non cote. ","")&IF(T3="","Grade non reconnu pour decote esthetique. ","")&IFERROR(INDEX('Mapping pannes'!$E$2:$E$16,MATCH(M3,'Mapping pannes'!$A$2:$A$16,0))&" ","")&IFERROR(INDEX('Mapping pannes'!$E$2:$E$16,MATCH(N3,'Mapping pannes'!$A$2:$A$16,0))&" ","")&IFERROR(INDEX('Mapping pannes'!$E$2:$E$16,MATCH(O3,'Mapping pannes'!$A$2:$A$16,0))&" ",""))}
A4: 2602825 | B4: 5CG31449M4 | C4: HP | D4: ELITEBOOK_830_13_INCH_G9_NOTEBOOK_PC-13.4-I5_1245U_16GB | E4: B | F4: CORE I5-1245U | G4: 16GB | H4: NVME SSD 256GB | I4: I5-1245U | J4: 16 Go | K4: 256GB | L4: =IF(SUMPRODUCT(('cotation préalable'!$C$5:$C$15=I4)*('cotation préalable'!$D$5:$D$15=J4)*('cotation préalable'!$E$5:$E$15=K4))=0,"Non cote",SUMPRODUCT(('cotation préalable'!$C$5:$C$15=I4)*('cotation préalable'!$D$5:$D$15=J4)*('cotation préalable'!$E$5:$E$15=K4)*'cotation préalable'!$H$5:$H$15)/SUMPRODUCT(('cotation préalable'!$C$5:$C$15=I4)*('cotation préalable'!$D$5:$D$15=J4)*('cotation préalable'!$E$5:$E$15=K4))) -> 151.6035 | M4: BATTERIE_AUTONOMIE | P4: {=OR(IFERROR(INDEX('Mapping pannes'!$C$2:$C$16,MATCH(M4,'Mapping pannes'!$A$2:$A$16,0)),FALSE()),IFERROR(INDEX('Mapping pannes'!$C$2:$C$16,MATCH(N4,'Mapping pannes'!$A$2:$A$16,0)),FALSE()),IFERROR(INDEX('Mapping pannes'!$C$2:$C$16,MATCH(O4,'Mapping pannes'!$A$2:$A$16,0)),FALSE()))} -> FALSE | Q4: {=IFERROR(INDEX('Mapping pannes'!$D$2:$D$16,MATCH(M4,'Mapping pannes'!$A$2:$A$16,0)),0)+IFERROR(INDEX('Mapping pannes'!$D$2:$D$16,MATCH(N4,'Mapping pannes'!$A$2:$A$16,0)),0)+IFERROR(INDEX('Mapping pannes'!$D$2:$D$16,MATCH(O4,'Mapping pannes'!$A$2:$A$16,0)),0)} -> 40 | R4: =IF(NOT(ISNUMBER(L4)),"Non calculable",IF(P4,L4,MIN(L4,Q4))) -> 40 | S4: =IF(NOT(ISNUMBER(L4)),"Non calculable",MAX(0,L4-R4)) -> 111.6035 | T4: =IFERROR(VLOOKUP(E4,'Mapping pannes'!$G$2:$H$6,2,FALSE()),"") -> 0 | U4: =IF(OR(NOT(ISNUMBER(L4)),T4=""),"Non calculable",L4*T4) -> 0 | V4: =IF(OR(NOT(ISNUMBER(L4)),T4=""),"Non calculable",MAX(0,L4-R4-U4)) -> 111.6035 | W4: {=TRIM(IF(NOT(ISNUMBER(L4)),"Modele non cote. ","")&IF(T4="","Grade non reconnu pour decote esthetique. ","")&IFERROR(INDEX('Mapping pannes'!$E$2:$E$16,MATCH(M4,'Mapping pannes'!$A$2:$A$16,0))&" ","")&IFERROR(INDEX('Mapping pannes'!$E$2:$E$16,MATCH(N4,'Mapping pannes'!$A$2:$A$16,0))&" ","")&IFERROR(INDEX('Mapping pannes'!$E$2:$E$16,MATCH(O4,'Mapping pannes'!$A$2:$A$16,0))&" ",""))}
A5: 2603079 | B5: 5CG315341Q | C5: HP | D5: ELITEBOOK_830_13_INCH_G9_NOTEBOOK_PC-13.4-I5_1245U_16GB | E5: C+ | F5: CORE I5-1245U | G5: 16GB | H5: NVME SSD 256GB | I5: I5-1245U | J5: 16 Go | K5: 256GB | L5: =IF(SUMPRODUCT(('cotation préalable'!$C$5:$C$15=I5)*('cotation préalable'!$D$5:$D$15=J5)*('cotation préalable'!$E$5:$E$15=K5))=0,"Non cote",SUMPRODUCT(('cotation préalable'!$C$5:$C$15=I5)*('cotation préalable'!$D$5:$D$15=J5)*('cotation préalable'!$E$5:$E$15=K5)*'cotation préalable'!$H$5:$H$15)/SUMPRODUCT(('cotation préalable'!$C$5:$C$15=I5)*('cotation préalable'!$D$5:$D$15=J5)*('cotation préalable'!$E$5:$E$15=K5))) -> 151.6035 | M5: BATTERIE_AUTONOMIE | P5: {=OR(IFERROR(INDEX('Mapping pannes'!$C$2:$C$16,MATCH(M5,'Mapping pannes'!$A$2:$A$16,0)),FALSE()),IFERROR(INDEX('Mapping pannes'!$C$2:$C$16,MATCH(N5,'Mapping pannes'!$A$2:$A$16,0)),FALSE()),IFERROR(INDEX('Mapping pannes'!$C$2:$C$16,MATCH(O5,'Mapping pannes'!$A$2:$A$16,0)),FALSE()))} -> FALSE | Q5: {=IFERROR(INDEX('Mapping pannes'!$D$2:$D$16,MATCH(M5,'Mapping pannes'!$A$2:$A$16,0)),0)+IFERROR(INDEX('Mapping pannes'!$D$2:$D$16,MATCH(N5,'Mapping pannes'!$A$2:$A$16,0)),0)+IFERROR(INDEX('Mapping pannes'!$D$2:$D$16,MATCH(O5,'Mapping pannes'!$A$2:$A$16,0)),0)} -> 40 | R5: =IF(NOT(ISNUMBER(L5)),"Non calculable",IF(P5,L5,MIN(L5,Q5))) -> 40 | S5: =IF(NOT(ISNUMBER(L5)),"Non calculable",MAX(0,L5-R5)) -> 111.6035 | T5: =IFERROR(VLOOKUP(E5,'Mapping pannes'!$G$2:$H$6,2,FALSE()),"") -> 0.2 | U5: =IF(OR(NOT(ISNUMBER(L5)),T5=""),"Non calculable",L5*T5) -> 30.3207 | V5: =IF(OR(NOT(ISNUMBER(L5)),T5=""),"Non calculable",MAX(0,L5-R5-U5)) -> 81.282799 | W5: {=TRIM(IF(NOT(ISNUMBER(L5)),"Modele non cote. ","")&IF(T5="","Grade non reconnu pour decote esthetique. ","")&IFERROR(INDEX('Mapping pannes'!$E$2:$E$16,MATCH(M5,'Mapping pannes'!$A$2:$A$16,0))&" ","")&IFERROR(INDEX('Mapping pannes'!$E$2:$E$16,MATCH(N5,'Mapping pannes'!$A$2:$A$16,0))&" ","")&IFERROR(INDEX('Mapping pannes'!$E$2:$E$16,MATCH(O5,'Mapping pannes'!$A$2:$A$16,0))&" ",""))}
A6: 2602763 | B6: 5CG3153416 | C6: HP | D6: ELITEBOOK_830_13_INCH_G9_NOTEBOOK_PC-13.4-I5_1245U_16GB | E6: B | F6: CORE I5-1245U | G6: 16GB | H6: NVME SSD 256GB | I6: I5-1245U | J6: 16 Go | K6: 256GB | L6: =IF(SUMPRODUCT(('cotation préalable'!$C$5:$C$15=I6)*('cotation préalable'!$D$5:$D$15=J6)*('cotation préalable'!$E$5:$E$15=K6))=0,"Non cote",SUMPRODUCT(('cotation préalable'!$C$5:$C$15=I6)*('cotation préalable'!$D$5:$D$15=J6)*('cotation préalable'!$E$5:$E$15=K6)*'cotation préalable'!$H$5:$H$15)/SUMPRODUCT(('cotation préalable'!$C$5:$C$15=I6)*('cotation préalable'!$D$5:$D$15=J6)*('cotation préalable'!$E$5:$E$15=K6))) -> 151.6035 | M6: BATTERIE_AUTONOMIE | N6: CLAVIER_HS | P6: {=OR(IFERROR(INDEX('Mapping pannes'!$C$2:$C$16,MATCH(M6,'Mapping pannes'!$A$2:$A$16,0)),FALSE()),IFERROR(INDEX('Mapping pannes'!$C$2:$C$16,MATCH(N6,'Mapping pannes'!$A$2:$A$16,0)),FALSE()),IFERROR(INDEX('Mapping pannes'!$C$2:$C$16,MATCH(O6,'Mapping pannes'!$A$2:$A$16,0)),FALSE()))} -> FALSE | Q6: {=IFERROR(INDEX('Mapping pannes'!$D$2:$D$16,MATCH(M6,'Mapping pannes'!$A$2:$A$16,0)),0)+IFERROR(INDEX('Mapping pannes'!$D$2:$D$16,MATCH(N6,'Mapping pannes'!$A$2:$A$16,0)),0)+IFERROR(INDEX('Mapping pannes'!$D$2:$D$16,MATCH(O6,'Mapping pannes'!$A$2:$A$16,0)),0)} -> 70 | R6: =IF(NOT(ISNUMBER(L6)),"Non calculable",IF(P6,L6,MIN(L6,Q6))) -> 70 | S6: =IF(NOT(ISNUMBER(L6)),"Non calculable",MAX(0,L6-R6)) -> 81.603499 | T6: =IFERROR(VLOOKUP(E6,'Mapping pannes'!$G$2:$H$6,2,FALSE()),"") -> 0 | U6: =IF(OR(NOT(ISNUMBER(L6)),T6=""),"Non calculable",L6*T6) -> 0 | V6: =IF(OR(NOT(ISNUMBER(L6)),T6=""),"Non calculable",MAX(0,L6-R6-U6)) -> 81.603499 | W6: {=TRIM(IF(NOT(ISNUMBER(L6)),"Modele non cote. ","")&IF(T6="","Grade non reconnu pour decote esthetique. ","")&IFERROR(INDEX('Mapping pannes'!$E$2:$E$16,MATCH(M6,'Mapping pannes'!$A$2:$A$16,0))&" ","")&IFERROR(INDEX('Mapping pannes'!$E$2:$E$16,MATCH(N6,'Mapping pannes'!$A$2:$A$16,0))&" ","")&IFERROR(INDEX('Mapping pannes'!$E$2:$E$16,MATCH(O6,'Mapping pannes'!$A$2:$A$16,0))&" ",""))}
A7: 2603081 | B7: 5CG3153488 | C7: HP | D7: ELITEBOOK_830_13_INCH_G9_NOTEBOOK_PC-13.4-I5_1245U_16GB | E7: B | F7: CORE I5-1245U | G7: 16GB | H7: NVME SSD 256GB | I7: I5-1245U | J7: 16 Go | K7: 256GB | L7: =IF(SUMPRODUCT(('cotation préalable'!$C$5:$C$15=I7)*('cotation préalable'!$D$5:$D$15=J7)*('cotation préalable'!$E$5:$E$15=K7))=0,"Non cote",SUMPRODUCT(('cotation préalable'!$C$5:$C$15=I7)*('cotation préalable'!$D$5:$D$15=J7)*('cotation préalable'!$E$5:$E$15=K7)*'cotation préalable'!$H$5:$H$15)/SUMPRODUCT(('cotation préalable'!$C$5:$C$15=I7)*('cotation préalable'!$D$5:$D$15=J7)*('cotation préalable'!$E$5:$E$15=K7))) -> 151.6035 | M7: CLAVIER_HS | P7: {=OR(IFERROR(INDEX('Mapping pannes'!$C$2:$C$16,MATCH(M7,'Mapping pannes'!$A$2:$A$16,0)),FALSE()),IFERROR(INDEX('Mapping pannes'!$C$2:$C$16,MATCH(N7,'Mapping pannes'!$A$2:$A$16,0)),FALSE()),IFERROR(INDEX('Mapping pannes'!$C$2:$C$16,MATCH(O7,'Mapping pannes'!$A$2:$A$16,0)),FALSE()))} -> FALSE | Q7: {=IFERROR(INDEX('Mapping pannes'!$D$2:$D$16,MATCH(M7,'Mapping pannes'!$A$2:$A$16,0)),0)+IFERROR(INDEX('Mapping pannes'!$D$2:$D$16,MATCH(N7,'Mapping pannes'!$A$2:$A$16,0)),0)+IFERROR(INDEX('Mapping pannes'!$D$2:$D$16,MATCH(O7,'Mapping pannes'!$A$2:$A$16,0)),0)} -> 30 | R7: =IF(NOT(ISNUMBER(L7)),"Non calculable",IF(P7,L7,MIN(L7,Q7))) -> 30 | S7: =IF(NOT(ISNUMBER(L7)),"Non calculable",MAX(0,L7-R7)) -> 121.6035 | T7: =IFERROR(VLOOKUP(E7,'Mapping pannes'!$G$2:$H$6,2,FALSE()),"") -> 0 | U7: =IF(OR(NOT(ISNUMBER(L7)),T7=""),"Non calculable",L7*T7) -> 0 | V7: =IF(OR(NOT(ISNUMBER(L7)),T7=""),"Non calculable",MAX(0,L7-R7-U7)) -> 121.6035 | W7: {=TRIM(IF(NOT(ISNUMBER(L7)),"Modele non cote. ","")&IF(T7="","Grade non reconnu pour decote esthetique. ","")&IFERROR(INDEX('Mapping pannes'!$E$2:$E$16,MATCH(M7,'Mapping pannes'!$A$2:$A$16,0))&" ","")&IFERROR(INDEX('Mapping pannes'!$E$2:$E$16,MATCH(N7,'Mapping pannes'!$A$2:$A$16,0))&" ","")&IFERROR(INDEX('Mapping pannes'!$E$2:$E$16,MATCH(O7,'Mapping pannes'!$A$2:$A$16,0))&" ",""))}
A8: 2603077 | B8: 5CG315348J | C8: HP | D8: ELITEBOOK_830_13_INCH_G9_NOTEBOOK_PC-13.4-I5_1245U_16GB | E8: C | F8: CORE I5-1245U | G8: 16GB | H8: NVME SSD 256GB | I8: I5-1245U | J8: 16 Go | K8: 256GB | L8: =IF(SUMPRODUCT(('cotation préalable'!$C$5:$C$15=I8)*('cotation préalable'!$D$5:$D$15=J8)*('cotation préalable'!$E$5:$E$15=K8))=0,"Non cote",SUMPRODUCT(('cotation préalable'!$C$5:$C$15=I8)*('cotation préalable'!$D$5:$D$15=J8)*('cotation préalable'!$E$5:$E$15=K8)*'cotation préalable'!$H$5:$H$15)/SUMPRODUCT(('cotation préalable'!$C$5:$C$15=I8)*('cotation préalable'!$D$5:$D$15=J8)*('cotation préalable'!$E$5:$E$15=K8))) -> 151.6035 | M8: ECRAN_HS | P8: {=OR(IFERROR(INDEX('Mapping pannes'!$C$2:$C$16,MATCH(M8,'Mapping pannes'!$A$2:$A$16,0)),FALSE()),IFERROR(INDEX('Mapping pannes'!$C$2:$C$16,MATCH(N8,'Mapping pannes'!$A$2:$A$16,0)),FALSE()),IFERROR(INDEX('Mapping pannes'!$C$2:$C$16,MATCH(O8,'Mapping pannes'!$A$2:$A$16,0)),FALSE()))} -> TRUE | Q8: {=IFERROR(INDEX('Mapping pannes'!$D$2:$D$16,MATCH(M8,'Mapping pannes'!$A$2:$A$16,0)),0)+IFERROR(INDEX('Mapping pannes'!$D$2:$D$16,MATCH(N8,'Mapping pannes'!$A$2:$A$16,0)),0)+IFERROR(INDEX('Mapping pannes'!$D$2:$D$16,MATCH(O8,'Mapping pannes'!$A$2:$A$16,0)),0)} -> 0 | R8: =IF(NOT(ISNUMBER(L8)),"Non calculable",IF(P8,L8,MIN(L8,Q8))) -> 151.6035 | S8: =IF(NOT(ISNUMBER(L8)),"Non calculable",MAX(0,L8-R8)) -> 0 | T8: =IFERROR(VLOOKUP(E8,'Mapping pannes'!$G$2:$H$6,2,FALSE()),"") -> 0.4 | U8: =IF(OR(NOT(ISNUMBER(L8)),T8=""),"Non calculable",L8*T8) -> 60.641399 | V8: 35 | W8: {=TRIM(IF(NOT(ISNUMBER(L8)),"Modele non cote. ","")&IF(T8="","Grade non reconnu pour decote esthetique. ","")&IFERROR(INDEX('Mapping pannes'!$E$2:$E$16,MATCH(M8,'Mapping pannes'!$A$2:$A$16,0))&" ","")&IFERROR(INDEX('Mapping pannes'!$E$2:$E$16,MATCH(N8,'Mapping pannes'!$A$2:$A$16,0))&" ","")&IFERROR(INDEX('Mapping pannes'!$E$2:$E$16,MATCH(O8,'Mapping pannes'!$A$2:$A$16,0))&" ",""))}
A9: 2603078 | B9: 5CG31531HR | C9: HP | D9: ELITEBOOK_830_13_INCH_G9_NOTEBOOK_PC-13.4-I5_1245U_16GB | E9: C+ | F9: CORE I5-1245U | G9: 16GB | H9: NVME SSD 256GB | I9: I5-1245U | J9: 16 Go | K9: 256GB | L9: =IF(SUMPRODUCT(('cotation préalable'!$C$5:$C$15=I9)*('cotation préalable'!$D$5:$D$15=J9)*('cotation préalable'!$E$5:$E$15=K9))=0,"Non cote",SUMPRODUCT(('cotation préalable'!$C$5:$C$15=I9)*('cotation préalable'!$D$5:$D$15=J9)*('cotation préalable'!$E$5:$E$15=K9)*'cotation préalable'!$H$5:$H$15)/SUMPRODUCT(('cotation préalable'!$C$5:$C$15=I9)*('cotation préalable'!$D$5:$D$15=J9)*('cotation préalable'!$E$5:$E$15=K9))) -> 151.6035 | M9: ECRAN_HS | P9: {=OR(IFERROR(INDEX('Mapping pannes'!$C$2:$C$16,MATCH(M9,'Mapping pannes'!$A$2:$A$16,0)),FALSE()),IFERROR(INDEX('Mapping pannes'!$C$2:$C$16,MATCH(N9,'Mapping pannes'!$A$2:$A$16,0)),FALSE()),IFERROR(INDEX('Mapping pannes'!$C$2:$C$16,MATCH(O9,'Mapping pannes'!$A$2:$A$16,0)),FALSE()))} -> TRUE | Q9: {=IFERROR(INDEX('Mapping pannes'!$D$2:$D$16,MATCH(M9,'Mapping pannes'!$A$2:$A$16,0)),0)+IFERROR(INDEX('Mapping pannes'!$D$2:$D$16,MATCH(N9,'Mapping pannes'!$A$2:$A$16,0)),0)+IFERROR(INDEX('Mapping pannes'!$D$2:$D$16,MATCH(O9,'Mapping pannes'!$A$2:$A$16,0)),0)} -> 0 | R9: =IF(NOT(ISNUMBER(L9)),"Non calculable",IF(P9,L9,MIN(L9,Q9))) -> 151.6035 | S9: =IF(NOT(ISNUMBER(L9)),"Non calculable",MAX(0,L9-R9)) -> 0 | T9: =IFERROR(VLOOKUP(E9,'Mapping pannes'!$G$2:$H$6,2,FALSE()),"") -> 0.2 | U9: =IF(OR(NOT(ISNUMBER(L9)),T9=""),"Non calculable",L9*T9) -> 30.3207 | V9: 35 | W9: {=TRIM(IF(NOT(ISNUMBER(L9)),"Modele non cote. ","")&IF(T9="","Grade non reconnu pour decote esthetique. ","")&IFERROR(INDEX('Mapping pannes'!$E$2:$E$16,MATCH(M9,'Mapping pannes'!$A$2:$A$16,0))&" ","")&IFERROR(INDEX('Mapping pannes'!$E$2:$E$16,MATCH(N9,'Mapping pannes'!$A$2:$A$16,0))&" ","")&IFERROR(INDEX('Mapping pannes'!$E$2:$E$16,MATCH(O9,'Mapping pannes'!$A$2:$A$16,0))&" ",""))}
A10: 2603244 | B10: 5CG3153417 | C10: HP | D10: ELITEBOOK_830_13_INCH_G9_NOTEBOOK_PC-13.4-I5_1245U_16GB | E10: B | F10: CORE I5-1245U | G10: 16GB | H10: NVME SSD 256GB | I10: I5-1245U | J10: 16 Go | K10: 256GB | L10: =IF(SUMPRODUCT(('cotation préalable'!$C$5:$C$15=I10)*('cotation préalable'!$D$5:$D$15=J10)*('cotation préalable'!$E$5:$E$15=K10))=0,"Non cote",SUMPRODUCT(('cotation préalable'!$C$5:$C$15=I10)*('cotation préalable'!$D$5:$D$15=J10)*('cotation préalable'!$E$5:$E$15=K10)*'cotation préalable'!$H$5:$H$15)/SUMPRODUCT(('cotation préalable'!$C$5:$C$15=I10)*('cotation préalable'!$D$5:$D$15=J10)*('cotation préalable'!$E$5:$E$15=K10))) -> 151.6035 | M10: ECRAN_HS | N10: BATTERIE_AUTONOMIE | P10: {=OR(IFERROR(INDEX('Mapping pannes'!$C$2:$C$16,MATCH(M10,'Mapping pannes'!$A$2:$A$16,0)),FALSE()),IFERROR(INDEX('Mapping pannes'!$C$2:$C$16,MATCH(N10,'Mapping pannes'!$A$2:$A$16,0)),FALSE()),IFERROR(INDEX('Mapping pannes'!$C$2:$C$16,MATCH(O10,'Mapping pannes'!$A$2:$A$16,0)),FALSE()))} -> TRUE | Q10: {=IFERROR(INDEX('Mapping pannes'!$D$2:$D$16,MATCH(M10,'Mapping pannes'!$A$2:$A$16,0)),0)+IFERROR(INDEX('Mapping pannes'!$D$2:$D$16,MATCH(N10,'Mapping pannes'!$A$2:$A$16,0)),0)+IFERROR(INDEX('Mapping pannes'!$D$2:$D$16,MATCH(O10,'Mapping pannes'!$A$2:$A$16,0)),0)} -> 40 | R10: =IF(NOT(ISNUMBER(L10)),"Non calculable",IF(P10,L10,MIN(L10,Q10))) -> 151.6035 | S10: =IF(NOT(ISNUMBER(L10)),"Non calculable",MAX(0,L10-R10)) -> 0 | T10: =IFERROR(VLOOKUP(E10,'Mapping pannes'!$G$2:$H$6,2,FALSE()),"") -> 0 | U10: =IF(OR(NOT(ISNUMBER(L10)),T10=""),"Non calculable",L10*T10) -> 0 | V10: 35 | W10: {=TRIM(IF(NOT(ISNUMBER(L10)),"Modele non cote. ","")&IF(T10="","Grade non reconnu pour decote esthetique. ","")&IFERROR(INDEX('Mapping pannes'!$E$2:$E$16,MATCH(M10,'Mapping pannes'!$A$2:$A$16,0))&" ","")&IFERROR(INDEX('Mapping pannes'!$E$2:$E$16,MATCH(N10,'Mapping pannes'!$A$2:$A$16,0))&" ","")&IFERROR(INDEX('Mapping pannes'!$E$2:$E$16,MATCH(O10,'Mapping pannes'!$A$2:$A$16,0))&" ",""))}
A11: 2603082 | B11: 5CG31531HX | C11: HP | D11: ELITEBOOK_830_13_INCH_G9_NOTEBOOK_PC-13.4-I5_1245U_16GB | E11: B | F11: CORE I5-1245U | G11: 16GB | H11: NVME SSD 256GB | I11: I5-1245U | J11: 16 Go | K11: 256GB | L11: =IF(SUMPRODUCT(('cotation préalable'!$C$5:$C$15=I11)*('cotation préalable'!$D$5:$D$15=J11)*('cotation préalable'!$E$5:$E$15=K11))=0,"Non cote",SUMPRODUCT(('cotation préalable'!$C$5:$C$15=I11)*('cotation préalable'!$D$5:$D$15=J11)*('cotation préalable'!$E$5:$E$15=K11)*'cotation préalable'!$H$5:$H$15)/SUMPRODUCT(('cotation préalable'!$C$5:$C$15=I11)*('cotation préalable'!$D$5:$D$15=J11)*('cotation préalable'!$E$5:$E$15=K11))) -> 151.6035 | M11: ECRAN_HS | N11: BATTERIE_AUTONOMIE | P11: {=OR(IFERROR(INDEX('Mapping pannes'!$C$2:$C$16,MATCH(M11,'Mapping pannes'!$A$2:$A$16,0)),FALSE()),IFERROR(INDEX('Mapping pannes'!$C$2:$C$16,MATCH(N11,'Mapping pannes'!$A$2:$A$16,0)),FALSE()),IFERROR(INDEX('Mapping pannes'!$C$2:$C$16,MATCH(O11,'Mapping pannes'!$A$2:$A$16,0)),FALSE()))} -> TRUE | Q11: {=IFERROR(INDEX('Mapping pannes'!$D$2:$D$16,MATCH(M11,'Mapping pannes'!$A$2:$A$16,0)),0)+IFERROR(INDEX('Mapping pannes'!$D$2:$D$16,MATCH(N11,'Mapping pannes'!$A$2:$A$16,0)),0)+IFERROR(INDEX('Mapping pannes'!$D$2:$D$16,MATCH(O11,'Mapping pannes'!$A$2:$A$16,0)),0)} -> 40 | R11: =IF(NOT(ISNUMBER(L11)),"Non calculable",IF(P11,L11,MIN(L11,Q11))) -> 151.6035 | S11: =IF(NOT(ISNUMBER(L11)),"Non calculable",MAX(0,L11-R11)) -> 0 | T11: =IFERROR(VLOOKUP(E11,'Mapping pannes'!$G$2:$H$6,2,FALSE()),"") -> 0 | U11: =IF(OR(NOT(ISNUMBER(L11)),T11=""),"Non calculable",L11*T11) -> 0 | V11: 35 | W11: {=TRIM(IF(NOT(ISNUMBER(L11)),"Modele non cote. ","")&IF(T11="","Grade non reconnu pour decote esthetique. ","")&IFERROR(INDEX('Mapping pannes'!$E$2:$E$16,MATCH(M11,'Mapping pannes'!$A$2:$A$16,0))&" ","")&IFERROR(INDEX('Mapping pannes'!$E$2:$E$16,MATCH(N11,'Mapping pannes'!$A$2:$A$16,0))&" ","")&IFERROR(INDEX('Mapping pannes'!$E$2:$E$16,MATCH(O11,'Mapping pannes'!$A$2:$A$16,0))&" ",""))}
A12: 2602761 | B12: 5CG315348F | C12: HP | D12: ELITEBOOK_830_13_INCH_G9_NOTEBOOK_PC-13.4-I5_1245U_16GB | E12: C | F12: CORE I5-1245U | G12: 16GB | H12: NVME SSD 256GB | I12: I5-1245U | J12: 16 Go | K12: 256GB | L12: =IF(SUMPRODUCT(('cotation préalable'!$C$5:$C$15=I12)*('cotation préalable'!$D$5:$D$15=J12)*('cotation préalable'!$E$5:$E$15=K12))=0,"Non cote",SUMPRODUCT(('cotation préalable'!$C$5:$C$15=I12)*('cotation préalable'!$D$5:$D$15=J12)*('cotation préalable'!$E$5:$E$15=K12)*'cotation préalable'!$H$5:$H$15)/SUMPRODUCT(('cotation préalable'!$C$5:$C$15=I12)*('cotation préalable'!$D$5:$D$15=J12)*('cotation préalable'!$E$5:$E$15=K12))) -> 151.6035 | M12: ECRAN_HS | N12: BATTERIE_AUTONOMIE | P12: {=OR(IFERROR(INDEX('Mapping pannes'!$C$2:$C$16,MATCH(M12,'Mapping pannes'!$A$2:$A$16,0)),FALSE()),IFERROR(INDEX('Mapping pannes'!$C$2:$C$16,MATCH(N12,'Mapping pannes'!$A$2:$A$16,0)),FALSE()),IFERROR(INDEX('Mapping pannes'!$C$2:$C$16,MATCH(O12,'Mapping pannes'!$A$2:$A$16,0)),FALSE()))} -> TRUE | Q12: {=IFERROR(INDEX('Mapping pannes'!$D$2:$D$16,MATCH(M12,'Mapping pannes'!$A$2:$A$16,0)),0)+IFERROR(INDEX('Mapping pannes'!$D$2:$D$16,MATCH(N12,'Mapping pannes'!$A$2:$A$16,0)),0)+IFERROR(INDEX('Mapping pannes'!$D$2:$D$16,MATCH(O12,'Mapping pannes'!$A$2:$A$16,0)),0)} -> 40 | R12: =IF(NOT(ISNUMBER(L12)),"Non calculable",IF(P12,L12,MIN(L12,Q12))) -> 151.6035 | S12: =IF(NOT(ISNUMBER(L12)),"Non calculable",MAX(0,L12-R12)) -> 0 | T12: =IFERROR(VLOOKUP(E12,'Mapping pannes'!$G$2:$H$6,2,FALSE()),"") -> 0.4 | U12: =IF(OR(NOT(ISNUMBER(L12)),T12=""),"Non calculable",L12*T12) -> 60.641399 | V12: 35 | W12: {=TRIM(IF(NOT(ISNUMBER(L12)),"Modele non cote. ","")&IF(T12="","Grade non reconnu pour decote esthetique. ","")&IFERROR(INDEX('Mapping pannes'!$E$2:$E$16,MATCH(M12,'Mapping pannes'!$A$2:$A$16,0))&" ","")&IFERROR(INDEX('Mapping pannes'!$E$2:$E$16,MATCH(N12,'Mapping pannes'!$A$2:$A$16,0))&" ","")&IFERROR(INDEX('Mapping pannes'!$E$2:$E$16,MATCH(O12,'Mapping pannes'!$A$2:$A$16,0))&" ",""))}
A13: 2603080 | B13: 5CG315348S | C13: HP | D13: ELITEBOOK_830_13_INCH_G9_NOTEBOOK_PC-13.4-I5_1245U_16GB | E13: C+ | F13: CORE I5-1245U | G13: 16GB | H13: NVME SSD 256GB | I13: I5-1245U | J13: 16 Go | K13: 256GB | L13: =IF(SUMPRODUCT(('cotation préalable'!$C$5:$C$15=I13)*('cotation préalable'!$D$5:$D$15=J13)*('cotation préalable'!$E$5:$E$15=K13))=0,"Non cote",SUMPRODUCT(('cotation préalable'!$C$5:$C$15=I13)*('cotation préalable'!$D$5:$D$15=J13)*('cotation préalable'!$E$5:$E$15=K13)*'cotation préalable'!$H$5:$H$15)/SUMPRODUCT(('cotation préalable'!$C$5:$C$15=I13)*('cotation préalable'!$D$5:$D$15=J13)*('cotation préalable'!$E$5:$E$15=K13))) -> 151.6035 | M13: ECRAN_HS | N13: BATTERIE_AUTONOMIE | P13: {=OR(IFERROR(INDEX('Mapping pannes'!$C$2:$C$16,MATCH(M13,'Mapping pannes'!$A$2:$A$16,0)),FALSE()),IFERROR(INDEX('Mapping pannes'!$C$2:$C$16,MATCH(N13,'Mapping pannes'!$A$2:$A$16,0)),FALSE()),IFERROR(INDEX('Mapping pannes'!$C$2:$C$16,MATCH(O13,'Mapping pannes'!$A$2:$A$16,0)),FALSE()))} -> TRUE | Q13: {=IFERROR(INDEX('Mapping pannes'!$D$2:$D$16,MATCH(M13,'Mapping pannes'!$A$2:$A$16,0)),0)+IFERROR(INDEX('Mapping pannes'!$D$2:$D$16,MATCH(N13,'Mapping pannes'!$A$2:$A$16,0)),0)+IFERROR(INDEX('Mapping pannes'!$D$2:$D$16,MATCH(O13,'Mapping pannes'!$A$2:$A$16,0)),0)} -> 40 | R13: =IF(NOT(ISNUMBER(L13)),"Non calculable",IF(P13,L13,MIN(L13,Q13))) -> 151.6035 | S13: =IF(NOT(ISNUMBER(L13)),"Non calculable",MAX(0,L13-R13)) -> 0 | T13: =IFERROR(VLOOKUP(E13,'Mapping pannes'!$G$2:$H$6,2,FALSE()),"") -> 0.2 | U13: =IF(OR(NOT(ISNUMBER(L13)),T13=""),"Non calculable",L13*T13) -> 30.3207 | V13: 35 | W13: {=TRIM(IF(NOT(ISNUMBER(L13)),"Modele non cote. ","")&IF(T13="","Grade non reconnu pour decote esthetique. ","")&IFERROR(INDEX('Mapping pannes'!$E$2:$E$16,MATCH(M13,'Mapping pannes'!$A$2:$A$16,0))&" ","")&IFERROR(INDEX('Mapping pannes'!$E$2:$E$16,MATCH(N13,'Mapping pannes'!$A$2:$A$16,0))&" ","")&IFERROR(INDEX('Mapping pannes'!$E$2:$E$16,MATCH(O13,'Mapping pannes'!$A$2:$A$16,0))&" ",""))}
A14: 2602817 | B14: 5CG315347T | C14: HP | D14: ELITEBOOK_830_13_INCH_G9_NOTEBOOK_PC-13.4-I5_1245U_16GB | E14: B | F14: CORE I5-1245U | G14: 16GB | H14: NVME SSD 256GB | I14: I5-1245U | J14: 16 Go | K14: 256GB | L14: =IF(SUMPRODUCT(('cotation préalable'!$C$5:$C$15=I14)*('cotation préalable'!$D$5:$D$15=J14)*('cotation préalable'!$E$5:$E$15=K14))=0,"Non cote",SUMPRODUCT(('cotation préalable'!$C$5:$C$15=I14)*('cotation préalable'!$D$5:$D$15=J14)*('cotation préalable'!$E$5:$E$15=K14)*'cotation préalable'!$H$5:$H$15)/SUMPRODUCT(('cotation préalable'!$C$5:$C$15=I14)*('cotation préalable'!$D$5:$D$15=J14)*('cotation préalable'!$E$5:$E$15=K14))) -> 151.6035 | P14: {=OR(IFERROR(INDEX('Mapping pannes'!$C$2:$C$16,MATCH(M14,'Mapping pannes'!$A$2:$A$16,0)),FALSE()),IFERROR(INDEX('Mapping pannes'!$C$2:$C$16,MATCH(N14,'Mapping pannes'!$A$2:$A$16,0)),FALSE()),IFERROR(INDEX('Mapping pannes'!$C$2:$C$16,MATCH(O14,'Mapping pannes'!$A$2:$A$16,0)),FALSE()))} -> FALSE | Q14: {=IFERROR(INDEX('Mapping pannes'!$D$2:$D$16,MATCH(M14,'Mapping pannes'!$A$2:$A$16,0)),0)+IFERROR(INDEX('Mapping pannes'!$D$2:$D$16,MATCH(N14,'Mapping pannes'!$A$2:$A$16,0)),0)+IFERROR(INDEX('Mapping pannes'!$D$2:$D$16,MATCH(O14,'Mapping pannes'!$A$2:$A$16,0)),0)} -> 0 | R14: =IF(NOT(ISNUMBER(L14)),"Non calculable",IF(P14,L14,MIN(L14,Q14))) -> 0 | S14: =IF(NOT(ISNUMBER(L14)),"Non calculable",MAX(0,L14-R14)) -> 151.6035 | T14: =IFERROR(VLOOKUP(E14,'Mapping pannes'!$G$2:$H$6,2,FALSE()),"") -> 0 | U14: =IF(OR(NOT(ISNUMBER(L14)),T14=""),"Non calculable",L14*T14) -> 0 | V14: =IF(OR(NOT(ISNUMBER(L14)),T14=""),"Non calculable",MAX(0,L14-R14-U14)) -> 151.6035 | W14: {=TRIM(IF(NOT(ISNUMBER(L14)),"Modele non cote. ","")&IF(T14="","Grade non reconnu pour decote esthetique. ","")&IFERROR(INDEX('Mapping pannes'!$E$2:$E$16,MATCH(M14,'Mapping pannes'!$A$2:$A$16,0))&" ","")&IFERROR(INDEX('Mapping pannes'!$E$2:$E$16,MATCH(N14,'Mapping pannes'!$A$2:$A$16,0))&" ","")&IFERROR(INDEX('Mapping pannes'!$E$2:$E$16,MATCH(O14,'Mapping pannes'!$A$2:$A$16,0))&" ",""))}
A15: 2602762 | B15: 5CG315347B | C15: HP | D15: ELITEBOOK_830_13_INCH_G9_NOTEBOOK_PC-13.4-I5_1245U_16GB | E15: C+ | F15: CORE I5-1245U | G15: 16GB | H15: NVME SSD 256GB | I15: I5-1245U | J15: 16 Go | K15: 256GB | L15: =IF(SUMPRODUCT(('cotation préalable'!$C$5:$C$15=I15)*('cotation préalable'!$D$5:$D$15=J15)*('cotation préalable'!$E$5:$E$15=K15))=0,"Non cote",SUMPRODUCT(('cotation préalable'!$C$5:$C$15=I15)*('cotation préalable'!$D$5:$D$15=J15)*('cotation préalable'!$E$5:$E$15=K15)*'cotation préalable'!$H$5:$H$15)/SUMPRODUCT(('cotation préalable'!$C$5:$C$15=I15)*('cotation préalable'!$D$5:$D$15=J15)*('cotation préalable'!$E$5:$E$15=K15))) -> 151.6035 | P15: {=OR(IFERROR(INDEX('Mapping pannes'!$C$2:$C$16,MATCH(M15,'Mapping pannes'!$A$2:$A$16,0)),FALSE()),IFERROR(INDEX('Mapping pannes'!$C$2:$C$16,MATCH(N15,'Mapping pannes'!$A$2:$A$16,0)),FALSE()),IFERROR(INDEX('Mapping pannes'!$C$2:$C$16,MATCH(O15,'Mapping pannes'!$A$2:$A$16,0)),FALSE()))} -> FALSE | Q15: {=IFERROR(INDEX('Mapping pannes'!$D$2:$D$16,MATCH(M15,'Mapping pannes'!$A$2:$A$16,0)),0)+IFERROR(INDEX('Mapping pannes'!$D$2:$D$16,MATCH(N15,'Mapping pannes'!$A$2:$A$16,0)),0)+IFERROR(INDEX('Mapping pannes'!$D$2:$D$16,MATCH(O15,'Mapping pannes'!$A$2:$A$16,0)),0)} -> 0 | R15: =IF(NOT(ISNUMBER(L15)),"Non calculable",IF(P15,L15,MIN(L15,Q15))) -> 0 | S15: =IF(NOT(ISNUMBER(L15)),"Non calculable",MAX(0,L15-R15)) -> 151.6035 | T15: =IFERROR(VLOOKUP(E15,'Mapping pannes'!$G$2:$H$6,2,FALSE()),"") -> 0.2 | U15: =IF(OR(NOT(ISNUMBER(L15)),T15=""),"Non calculable",L15*T15) -> 30.3207 | V15: =IF(OR(NOT(ISNUMBER(L15)),T15=""),"Non calculable",MAX(0,L15-R15-U15)) -> 121.2828 | W15: {=TRIM(IF(NOT(ISNUMBER(L15)),"Modele non cote. ","")&IF(T15="","Grade non reconnu pour decote esthetique. ","")&IFERROR(INDEX('Mapping pannes'!$E$2:$E$16,MATCH(M15,'Mapping pannes'!$A$2:$A$16,0))&" ","")&IFERROR(INDEX('Mapping pannes'!$E$2:$E$16,MATCH(N15,'Mapping pannes'!$A$2:$A$16,0))&" ","")&IFERROR(INDEX('Mapping pannes'!$E$2:$E$16,MATCH(O15,'Mapping pannes'!$A$2:$A$16,0))&" ",""))}
A16: 2603247 | B16: 5CG315347L | C16: HP | D16: ELITEBOOK_830_13_INCH_G9_NOTEBOOK_PC-13.4-I5_1245U_16GB | E16: C+ | F16: CORE I5-1245U | G16: 16GB | H16: NVME SSD 256GB | I16: I5-1245U | J16: 16 Go | K16: 256GB | L16: =IF(SUMPRODUCT(('cotation préalable'!$C$5:$C$15=I16)*('cotation préalable'!$D$5:$D$15=J16)*('cotation préalable'!$E$5:$E$15=K16))=0,"Non cote",SUMPRODUCT(('cotation préalable'!$C$5:$C$15=I16)*('cotation préalable'!$D$5:$D$15=J16)*('cotation préalable'!$E$5:$E$15=K16)*'cotation préalable'!$H$5:$H$15)/SUMPRODUCT(('cotation préalable'!$C$5:$C$15=I16)*('cotation préalable'!$D$5:$D$15=J16)*('cotation préalable'!$E$5:$E$15=K16))) -> 151.6035 | M16: TOUCHPAD_HS | P16: {=OR(IFERROR(INDEX('Mapping pannes'!$C$2:$C$16,MATCH(M16,'Mapping pannes'!$A$2:$A$16,0)),FALSE()),IFERROR(INDEX('Mapping pannes'!$C$2:$C$16,MATCH(N16,'Mapping pannes'!$A$2:$A$16,0)),FALSE()),IFERROR(INDEX('Mapping pannes'!$C$2:$C$16,MATCH(O16,'Mapping pannes'!$A$2:$A$16,0)),FALSE()))} -> FALSE | Q16: {=IFERROR(INDEX('Mapping pannes'!$D$2:$D$16,MATCH(M16,'Mapping pannes'!$A$2:$A$16,0)),0)+IFERROR(INDEX('Mapping pannes'!$D$2:$D$16,MATCH(N16,'Mapping pannes'!$A$2:$A$16,0)),0)+IFERROR(INDEX('Mapping pannes'!$D$2:$D$16,MATCH(O16,'Mapping pannes'!$A$2:$A$16,0)),0)} -> 30 | R16: =IF(NOT(ISNUMBER(L16)),"Non calculable",IF(P16,L16,MIN(L16,Q16))) -> 30 | S16: =IF(NOT(ISNUMBER(L16)),"Non calculable",MAX(0,L16-R16)) -> 121.6035 | T16: =IFERROR(VLOOKUP(E16,'Mapping pannes'!$G$2:$H$6,2,FALSE()),"") -> 0.2 | U16: =IF(OR(NOT(ISNUMBER(L16)),T16=""),"Non calculable",L16*T16) -> 30.3207 | V16: =IF(OR(NOT(ISNUMBER(L16)),T16=""),"Non calculable",MAX(0,L16-R16-U16)) -> 91.282799 | W16: {=TRIM(IF(NOT(ISNUMBER(L16)),"Modele non cote. ","")&IF(T16="","Grade non reconnu pour decote esthetique. ","")&IFERROR(INDEX('Mapping pannes'!$E$2:$E$16,MATCH(M16,'Mapping pannes'!$A$2:$A$16,0))&" ","")&IFERROR(INDEX('Mapping pannes'!$E$2:$E$16,MATCH(N16,'Mapping pannes'!$A$2:$A$16,0))&" ","")&IFERROR(INDEX('Mapping pannes'!$E$2:$E$16,MATCH(O16,'Mapping pannes'!$A$2:$A$16,0))&" ",""))}
A17: 2603245 | B17: 5CG31531HD | C17: HP | D17: ELITEBOOK_830_13_INCH_G9_NOTEBOOK_PC-13.4-I5_1245U_16GB | E17: C | F17: CORE I5-1245U | G17: 16GB | H17: NVME SSD 256GB | I17: I5-1245U | J17: 16 Go | K17: 256GB | L17: =IF(SUMPRODUCT(('cotation préalable'!$C$5:$C$15=I17)*('cotation préalable'!$D$5:$D$15=J17)*('cotation préalable'!$E$5:$E$15=K17))=0,"Non cote",SUMPRODUCT(('cotation préalable'!$C$5:$C$15=I17)*('cotation préalable'!$D$5:$D$15=J17)*('cotation préalable'!$E$5:$E$15=K17)*'cotation préalable'!$H$5:$H$15)/SUMPRODUCT(('cotation préalable'!$C$5:$C$15=I17)*('cotation préalable'!$D$5:$D$15=J17)*('cotation préalable'!$E$5:$E$15=K17))) -> 151.6035 | P17: {=OR(IFERROR(INDEX('Mapping pannes'!$C$2:$C$16,MATCH(M17,'Mapping pannes'!$A$2:$A$16,0)),FALSE()),IFERROR(INDEX('Mapping pannes'!$C$2:$C$16,MATCH(N17,'Mapping pannes'!$A$2:$A$16,0)),FALSE()),IFERROR(INDEX('Mapping pannes'!$C$2:$C$16,MATCH(O17,'Mapping pannes'!$A$2:$A$16,0)),FALSE()))} -> FALSE | Q17: {=IFERROR(INDEX('Mapping pannes'!$D$2:$D$16,MATCH(M17,'Mapping pannes'!$A$2:$A$16,0)),0)+IFERROR(INDEX('Mapping pannes'!$D$2:$D$16,MATCH(N17,'Mapping pannes'!$A$2:$A$16,0)),0)+IFERROR(INDEX('Mapping pannes'!$D$2:$D$16,MATCH(O17,'Mapping pannes'!$A$2:$A$16,0)),0)} -> 0 | R17: =IF(NOT(ISNUMBER(L17)),"Non calculable",IF(P17,L17,MIN(L17,Q17))) -> 0 | S17: =IF(NOT(ISNUMBER(L17)),"Non calculable",MAX(0,L17-R17)) -> 151.6035 | T17: =IFERROR(VLOOKUP(E17,'Mapping pannes'!$G$2:$H$6,2,FALSE()),"") -> 0.4 | U17: =IF(OR(NOT(ISNUMBER(L17)),T17=""),"Non calculable",L17*T17) -> 60.641399 | V17: =IF(OR(NOT(ISNUMBER(L17)),T17=""),"Non calculable",MAX(0,L17-R17-U17)) -> 90.962099 | W17: {=TRIM(IF(NOT(ISNUMBER(L17)),"Modele non cote. ","")&IF(T17="","Grade non reconnu pour decote esthetique. ","")&IFERROR(INDEX('Mapping pannes'!$E$2:$E$16,MATCH(M17,'Mapping pannes'!$A$2:$A$16,0))&" ","")&IFERROR(INDEX('Mapping pannes'!$E$2:$E$16,MATCH(N17,'Mapping pannes'!$A$2:$A$16,0))&" ","")&IFERROR(INDEX('Mapping pannes'!$E$2:$E$16,MATCH(O17,'Mapping pannes'!$A$2:$A$16,0))&" ",""))}
A18: 2602823 | B18: 5CG31531H8 | C18: HP | D18: ELITEBOOK_830_13_INCH_G9_NOTEBOOK_PC-13.4-I5_1245U_16GB | E18: C+ | F18: CORE I5-1245U | G18: 16GB | H18: NVME SSD 256GB | I18: I5-1245U | J18: 16 Go | K18: 256GB | L18: =IF(SUMPRODUCT(('cotation préalable'!$C$5:$C$15=I18)*('cotation préalable'!$D$5:$D$15=J18)*('cotation préalable'!$E$5:$E$15=K18))=0,"Non cote",SUMPRODUCT(('cotation préalable'!$C$5:$C$15=I18)*('cotation préalable'!$D$5:$D$15=J18)*('cotation préalable'!$E$5:$E$15=K18)*'cotation préalable'!$H$5:$H$15)/SUMPRODUCT(('cotation préalable'!$C$5:$C$15=I18)*('cotation préalable'!$D$5:$D$15=J18)*('cotation préalable'!$E$5:$E$15=K18))) -> 151.6035 | P18: {=OR(IFERROR(INDEX('Mapping pannes'!$C$2:$C$16,MATCH(M18,'Mapping pannes'!$A$2:$A$16,0)),FALSE()),IFERROR(INDEX('Mapping pannes'!$C$2:$C$16,MATCH(N18,'Mapping pannes'!$A$2:$A$16,0)),FALSE()),IFERROR(INDEX('Mapping pannes'!$C$2:$C$16,MATCH(O18,'Mapping pannes'!$A$2:$A$16,0)),FALSE()))} -> FALSE | Q18: {=IFERROR(INDEX('Mapping pannes'!$D$2:$D$16,MATCH(M18,'Mapping pannes'!$A$2:$A$16,0)),0)+IFERROR(INDEX('Mapping pannes'!$D$2:$D$16,MATCH(N18,'Mapping pannes'!$A$2:$A$16,0)),0)+IFERROR(INDEX('Mapping pannes'!$D$2:$D$16,MATCH(O18,'Mapping pannes'!$A$2:$A$16,0)),0)} -> 0 | R18: =IF(NOT(ISNUMBER(L18)),"Non calculable",IF(P18,L18,MIN(L18,Q18))) -> 0 | S18: =IF(NOT(ISNUMBER(L18)),"Non calculable",MAX(0,L18-R18)) -> 151.6035 | T18: =IFERROR(VLOOKUP(E18,'Mapping pannes'!$G$2:$H$6,2,FALSE()),"") -> 0.2 | U18: =IF(OR(NOT(ISNUMBER(L18)),T18=""),"Non calculable",L18*T18) -> 30.3207 | V18: =IF(OR(NOT(ISNUMBER(L18)),T18=""),"Non calculable",MAX(0,L18-R18-U18)) -> 121.2828 | W18: {=TRIM(IF(NOT(ISNUMBER(L18)),"Modele non cote. ","")&IF(T18="","Grade non reconnu pour decote esthetique. ","")&IFERROR(INDEX('Mapping pannes'!$E$2:$E$16,MATCH(M18,'Mapping pannes'!$A$2:$A$16,0))&" ","")&IFERROR(INDEX('Mapping pannes'!$E$2:$E$16,MATCH(N18,'Mapping pannes'!$A$2:$A$16,0))&" ","")&IFERROR(INDEX('Mapping pannes'!$E$2:$E$16,MATCH(O18,'Mapping pannes'!$A$2:$A$16,0))&" ",""))}
A19: 2602789 | B19: CND11316ZP | C19: HP | D19: ELITEBOOK_X360 | E19: C+ | G19: NON_DEFINI | L19: 35 | M19: LOGICIEL_BLOQUE_BIOS | P19: {=OR(IFERROR(INDEX('Mapping pannes'!$C$2:$C$16,MATCH(M19,'Mapping pannes'!$A$2:$A$16,0)),FALSE()),IFERROR(INDEX('Mapping pannes'!$C$2:$C$16,MATCH(N19,'Mapping pannes'!$A$2:$A$16,0)),FALSE()),IFERROR(INDEX('Mapping pannes'!$C$2:$C$16,MATCH(O19,'Mapping pannes'!$A$2:$A$16,0)),FALSE()))} -> TRUE | Q19: {=IFERROR(INDEX('Mapping pannes'!$D$2:$D$16,MATCH(M19,'Mapping pannes'!$A$2:$A$16,0)),0)+IFERROR(INDEX('Mapping pannes'!$D$2:$D$16,MATCH(N19,'Mapping pannes'!$A$2:$A$16,0)),0)+IFERROR(INDEX('Mapping pannes'!$D$2:$D$16,MATCH(O19,'Mapping pannes'!$A$2:$A$16,0)),0)} -> 0 | R19: =IF(NOT(ISNUMBER(L19)),"Non calculable",IF(P19,L19,MIN(L19,Q19))) -> 35 | S19: =IF(NOT(ISNUMBER(L19)),"Non calculable",MAX(0,L19-R19)) -> 0 | T19: =IFERROR(VLOOKUP(E19,'Mapping pannes'!$G$2:$H$6,2,FALSE()),"") -> 0.2 | U19: =IF(OR(NOT(ISNUMBER(L19)),T19=""),"Non calculable",L19*T19) -> 7 | V19: 35 | W19: {=TRIM(IF(NOT(ISNUMBER(L19)),"Modele non cote. ","")&IF(T19="","Grade non reconnu pour decote esthetique. ","")&IFERROR(INDEX('Mapping pannes'!$E$2:$E$16,MATCH(M19,'Mapping pannes'!$A$2:$A$16,0))&" ","")&IFERROR(INDEX('Mapping pannes'!$E$2:$E$16,MATCH(N19,'Mapping pannes'!$A$2:$A$16,0))&" ","")&IFERROR(INDEX('Mapping pannes'!$E$2:$E$16,MATCH(O19,'Mapping pannes'!$A$2:$A$16,0))&" ",""))}
A20: 2603463 | B20: 5CG1201X5F | C20: HP | D20: ELITEBOOK_X360 | E20: C+ | G20: NON_DEFINI | L20: 35 | M20: NE_S_ALLUME_PAS | N20: PATIN_MANQUANT | P20: {=OR(IFERROR(INDEX('Mapping pannes'!$C$2:$C$16,MATCH(M20,'Mapping pannes'!$A$2:$A$16,0)),FALSE()),IFERROR(INDEX('Mapping pannes'!$C$2:$C$16,MATCH(N20,'Mapping pannes'!$A$2:$A$16,0)),FALSE()),IFERROR(INDEX('Mapping pannes'!$C$2:$C$16,MATCH(O20,'Mapping pannes'!$A$2:$A$16,0)),FALSE()))} -> TRUE | Q20: {=IFERROR(INDEX('Mapping pannes'!$D$2:$D$16,MATCH(M20,'Mapping pannes'!$A$2:$A$16,0)),0)+IFERROR(INDEX('Mapping pannes'!$D$2:$D$16,MATCH(N20,'Mapping pannes'!$A$2:$A$16,0)),0)+IFERROR(INDEX('Mapping pannes'!$D$2:$D$16,MATCH(O20,'Mapping pannes'!$A$2:$A$16,0)),0)} -> 15 | R20: =IF(NOT(ISNUMBER(L20)),"Non calculable",IF(P20,L20,MIN(L20,Q20))) -> 35 | S20: =IF(NOT(ISNUMBER(L20)),"Non calculable",MAX(0,L20-R20)) -> 0 | T20: =IFERROR(VLOOKUP(E20,'Mapping pannes'!$G$2:$H$6,2,FALSE()),"") -> 0.2 | U20: =IF(OR(NOT(ISNUMBER(L20)),T20=""),"Non calculable",L20*T20) -> 7 | V20: 35 | W20: {=TRIM(IF(NOT(ISNUMBER(L20)),"Modele non cote. ","")&IF(T20="","Grade non reconnu pour decote esthetique. ","")&IFERROR(INDEX('Mapping pannes'!$E$2:$E$16,MATCH(M20,'Mapping pannes'!$A$2:$A$16,0))&" ","")&IFERROR(INDEX('Mapping pannes'!$E$2:$E$16,MATCH(N20,'Mapping pannes'!$A$2:$A$16,0))&" ","")&IFERROR(INDEX('Mapping pannes'!$E$2:$E$16,MATCH(O20,'Mapping pannes'!$A$2:$A$16,0))&" ",""))}
A21: 2603301 | B21: 5CG82039T7 | C21: HP | D21: ELITEBOOK_X360_1030_G2 | E21: C+ | G21: NON_DEFINI | L21: 35 | M21: LOGICIEL_BLOQUE_BIOS | P21: {=OR(IFERROR(INDEX('Mapping pannes'!$C$2:$C$16,MATCH(M21,'Mapping pannes'!$A$2:$A$16,0)),FALSE()),IFERROR(INDEX('Mapping pannes'!$C$2:$C$16,MATCH(N21,'Mapping pannes'!$A$2:$A$16,0)),FALSE()),IFERROR(INDEX('Mapping pannes'!$C$2:$C$16,MATCH(O21,'Mapping pannes'!$A$2:$A$16,0)),FALSE()))} -> TRUE | Q21: {=IFERROR(INDEX('Mapping pannes'!$D$2:$D$16,MATCH(M21,'Mapping pannes'!$A$2:$A$16,0)),0)+IFERROR(INDEX('Mapping pannes'!$D$2:$D$16,MATCH(N21,'Mapping pannes'!$A$2:$A$16,0)),0)+IFERROR(INDEX('Mapping pannes'!$D$2:$D$16,MATCH(O21,'Mapping pannes'!$A$2:$A$16,0)),0)} -> 0 | R21: =IF(NOT(ISNUMBER(L21)),"Non calculable",IF(P21,L21,MIN(L21,Q21))) -> 35 | S21: =IF(NOT(ISNUMBER(L21)),"Non calculable",MAX(0,L21-R21)) -> 0 | T21: =IFERROR(VLOOKUP(E21,'Mapping pannes'!$G$2:$H$6,2,FALSE()),"") -> 0.2 | U21: =IF(OR(NOT(ISNUMBER(L21)),T21=""),"Non calculable",L21*T21) -> 7 | V21: 35 | W21: {=TRIM(IF(NOT(ISNUMBER(L21)),"Modele non cote. ","")&IF(T21="","Grade non reconnu pour decote esthetique. ","")&IFERROR(INDEX('Mapping pannes'!$E$2:$E$16,MATCH(M21,'Mapping pannes'!$A$2:$A$16,0))&" ","")&IFERROR(INDEX('Mapping pannes'!$E$2:$E$16,MATCH(N21,'Mapping pannes'!$A$2:$A$16,0))&" ","")&IFERROR(INDEX('Mapping pannes'!$E$2:$E$16,MATCH(O21,'Mapping pannes'!$A$2:$A$16,0))&" ",""))}
A22: 2603085 | B22: 5CD01086RJ | C22: HP | D22: ELITEBOOK_X360_1030_G4_13.2_I5-8265U_1.6GHZ_8GB | E22: C+ | F22: CORE I5-8265U 1.60 GHZ | G22: 8GB | H22: NVME SSD 256GB | I22: I5-8265U | J22: 8 Go | K22: 256GB | L22: 20 | P22: {=OR(IFERROR(INDEX('Mapping pannes'!$C$2:$C$16,MATCH(M22,'Mapping pannes'!$A$2:$A$16,0)),FALSE()),IFERROR(INDEX('Mapping pannes'!$C$2:$C$16,MATCH(N22,'Mapping pannes'!$A$2:$A$16,0)),FALSE()),IFERROR(INDEX('Mapping pannes'!$C$2:$C$16,MATCH(O22,'Mapping pannes'!$A$2:$A$16,0)),FALSE()))} -> FALSE | Q22: {=IFERROR(INDEX('Mapping pannes'!$D$2:$D$16,MATCH(M22,'Mapping pannes'!$A$2:$A$16,0)),0)+IFERROR(INDEX('Mapping pannes'!$D$2:$D$16,MATCH(N22,'Mapping pannes'!$A$2:$A$16,0)),0)+IFERROR(INDEX('Mapping pannes'!$D$2:$D$16,MATCH(O22,'Mapping pannes'!$A$2:$A$16,0)),0)} -> 0 | R22: =IF(NOT(ISNUMBER(L22)),"Non calculable",IF(P22,L22,MIN(L22,Q22))) -> 0 | S22: =IF(NOT(ISNUMBER(L22)),"Non calculable",MAX(0,L22-R22)) -> 20 | T22: =IFERROR(VLOOKUP(E22,'Mapping pannes'!$G$2:$H$6,2,FALSE()),"") -> 0.2 | U22: =IF(OR(NOT(ISNUMBER(L22)),T22=""),"Non calculable",L22*T22) -> 4 | V22: =IF(OR(NOT(ISNUMBER(L22)),T22=""),"Non calculable",MAX(0,L22-R22-U22)) -> 16 | W22: {=TRIM(IF(NOT(ISNUMBER(L22)),"Modele non cote. ","")&IF(T22="","Grade non reconnu pour decote esthetique. ","")&IFERROR(INDEX('Mapping pannes'!$E$2:$E$16,MATCH(M22,'Mapping pannes'!$A$2:$A$16,0))&" ","")&IFERROR(INDEX('Mapping pannes'!$E$2:$E$16,MATCH(N22,'Mapping pannes'!$A$2:$A$16,0))&" ","")&IFERROR(INDEX('Mapping pannes'!$E$2:$E$16,MATCH(O22,'Mapping pannes'!$A$2:$A$16,0))&" ",""))}
A23: 2603279 | B23: 5CD020D2D6 | C23: HP | D23: ELITEBOOK_X360_1030_G4-13.2-I7_8565U_1.80GHZ_16GB | E23: C | F23: CORE I7-8565U 1.80 GHZ | G23: 16GB | H23: NVME SSD 256GB | I23: I7-8565U | J23: 16 Go | K23: 256GB | L23: 89.58 | M23: BATTERIE_AUTONOMIE | P23: {=OR(IFERROR(INDEX('Mapping pannes'!$C$2:$C$16,MATCH(M23,'Mapping pannes'!$A$2:$A$16,0)),FALSE()),IFERROR(INDEX('Mapping pannes'!$C$2:$C$16,MATCH(N23,'Mapping pannes'!$A$2:$A$16,0)),FALSE()),IFERROR(INDEX('Mapping pannes'!$C$2:$C$16,MATCH(O23,'Mapping pannes'!$A$2:$A$16,0)),FALSE()))} -> FALSE | Q23: {=IFERROR(INDEX('Mapping pannes'!$D$2:$D$16,MATCH(M23,'Mapping pannes'!$A$2:$A$16,0)),0)+IFERROR(INDEX('Mapping pannes'!$D$2:$D$16,MATCH(N23,'Mapping pannes'!$A$2:$A$16,0)),0)+IFERROR(INDEX('Mapping pannes'!$D$2:$D$16,MATCH(O23,'Mapping pannes'!$A$2:$A$16,0)),0)} -> 40 | R23: =IF(NOT(ISNUMBER(L23)),"Non calculable",IF(P23,L23,MIN(L23,Q23))) -> 40 | S23: =IF(NOT(ISNUMBER(L23)),"Non calculable",MAX(0,L23-R23)) -> 49.58 | T23: =IFERROR(VLOOKUP(E23,'Mapping pannes'!$G$2:$H$6,2,FALSE()),"") -> 0.4 | U23: =IF(OR(NOT(ISNUMBER(L23)),T23=""),"Non calculable",L23*T23) -> 35.832 | V23: =IF(OR(NOT(ISNUMBER(L23)),T23=""),"Non calculable",MAX(0,L23-R23-U23)) -> 13.748 | W23: {=TRIM(IF(NOT(ISNUMBER(L23)),"Modele non cote. ","")&IF(T23="","Grade non reconnu pour decote esthetique. ","")&IFERROR(INDEX('Mapping pannes'!$E$2:$E$16,MATCH(M23,'Mapping pannes'!$A$2:$A$16,0))&" ","")&IFERROR(INDEX('Mapping pannes'!$E$2:$E$16,MATCH(N23,'Mapping pannes'!$A$2:$A$16,0))&" ","")&IFERROR(INDEX('Mapping pannes'!$E$2:$E$16,MATCH(O23,'Mapping pannes'!$A$2:$A$16,0))&" ",""))}
A24: 2603284 | B24: 5CD020D2CR | C24: HP | D24: ELITEBOOK_X360_1030_G4-13.2-I7_8565U_1.80GHZ_16GB | E24: B | F24: CORE I7-8565U 1.80 GHZ | G24: 16GB | H24: NVME SSD 256GB | I24: I7-8565U | J24: 16 Go | K24: 256GB | L24: 89.58 | P24: {=OR(IFERROR(INDEX('Mapping pannes'!$C$2:$C$16,MATCH(M24,'Mapping pannes'!$A$2:$A$16,0)),FALSE()),IFERROR(INDEX('Mapping pannes'!$C$2:$C$16,MATCH(N24,'Mapping pannes'!$A$2:$A$16,0)),FALSE()),IFERROR(INDEX('Mapping pannes'!$C$2:$C$16,MATCH(O24,'Mapping pannes'!$A$2:$A$16,0)),FALSE()))} -> FALSE | Q24: {=IFERROR(INDEX('Mapping pannes'!$D$2:$D$16,MATCH(M24,'Mapping pannes'!$A$2:$A$16,0)),0)+IFERROR(INDEX('Mapping pannes'!$D$2:$D$16,MATCH(N24,'Mapping pannes'!$A$2:$A$16,0)),0)+IFERROR(INDEX('Mapping pannes'!$D$2:$D$16,MATCH(O24,'Mapping pannes'!$A$2:$A$16,0)),0)} -> 0 | R24: =IF(NOT(ISNUMBER(L24)),"Non calculable",IF(P24,L24,MIN(L24,Q24))) -> 0 | S24: =IF(NOT(ISNUMBER(L24)),"Non calculable",MAX(0,L24-R24)) -> 89.58 | T24: =IFERROR(VLOOKUP(E24,'Mapping pannes'!$G$2:$H$6,2,FALSE()),"") -> 0 | U24: =IF(OR(NOT(ISNUMBER(L24)),T24=""),"Non calculable",L24*T24) -> 0 | V24: =IF(OR(NOT(ISNUMBER(L24)),T24=""),"Non calculable",MAX(0,L24-R24-U24)) -> 89.58 | W24: {=TRIM(IF(NOT(ISNUMBER(L24)),"Modele non cote. ","")&IF(T24="","Grade non reconnu pour decote esthetique. ","")&IFERROR(INDEX('Mapping pannes'!$E$2:$E$16,MATCH(M24,'Mapping pannes'!$A$2:$A$16,0))&" ","")&IFERROR(INDEX('Mapping pannes'!$E$2:$E$16,MATCH(N24,'Mapping pannes'!$A$2:$A$16,0))&" ","")&IFERROR(INDEX('Mapping pannes'!$E$2:$E$16,MATCH(O24,'Mapping pannes'!$A$2:$A$16,0))&" ",""))}
